BEGIN:VCALENDAR
VERSION:2.0
CALSCALE:GREGORIAN
BEGIN:VEVENT
SUMMARY:Inställd pga färre än 3 bokade-Lomma - Warm Yin 75
DTSTART;TZID=Europe/Stockholm:20220628T191500
DTEND;TZID=Europe/Stockholm:20220628T203000
LOCATION:Strandv 89
DESCRIPTION: Warm Yin är utformad med fokus på att ”bara vara” snarare än att ”göra”. Positionerna hålls i 3-7 minuter vilket tar oss djupare in i muskler, leder och bindväv. Utmaningen ligger i att stanna kvar och möta sig själv även om det tar emot i kroppen. Vi lämnar vår strävan efter perfektion och tillåter oss själva att släppa taget. 34 grader.
Obs! Om du har tagit klassen före behöver du duscha och byta om innan Yin, samt använda ny ren handduk till din matta.
STATUS:CONFIRMED
SEQUENCE:0
END:VEVENT
END:VCALENDAR