BEGIN:VCALENDAR
VERSION:2.0
CALSCALE:GREGORIAN
BEGIN:VEVENT
SUMMARY:Lomma- Yoga Play: Vuxen+barn
DTSTART;TZID=Europe/Stockholm:20220515T140000
DTEND;TZID=Europe/Stockholm:20220515T150000
LOCATION:Strandv 89
DESCRIPTION: 
STATUS:CONFIRMED
SEQUENCE:0
END:VEVENT
END:VCALENDAR