BEGIN:VCALENDAR
VERSION:2.0
CALSCALE:GREGORIAN
BEGIN:VEVENT
SUMMARY:Meditation with sound journey
DTSTART;TZID=Europe/Stockholm:20220813T081500
DTEND;TZID=Europe/Stockholm:20220813T090000
LOCATION:Amfiteatern Lomma
DESCRIPTION: A lovely soft class to start off Lommas Yogadag. Sharka will be guiding us in a seated meditation and then put us in complete relaxation to the healing sounds of her crystal bowls. Bring your mat and a blanket. In English. For all levels. No signing up needed.
STATUS:CONFIRMED
SEQUENCE:0
END:VEVENT
END:VCALENDAR