BEGIN:VCALENDAR
VERSION:2.0
CALSCALE:GREGORIAN
BEGIN:VEVENT
SUMMARY:Inställd pga färre än 3 bokade Lomma - Warm YinYang 60
DTSTART;TZID=Europe/Stockholm:20220916T103000
DTEND;TZID=Europe/Stockholm:20220916T113000
LOCATION:Strandv 89
DESCRIPTION: 
STATUS:CONFIRMED
SEQUENCE:0
END:VEVENT
END:VCALENDAR