BEGIN:VCALENDAR
VERSION:2.0
CALSCALE:GREGORIAN
BEGIN:VEVENT
SUMMARY:Ballet kids 2-6 years
DTSTART;TZID=Europe/Madrid:20240809T163000
DTEND;TZID=Europe/Madrid:20240809T173000
LOCATION:
DESCRIPTION: Young dancers will explore the beauty and grace of ballet through playful movements and imaginative exercises in a very welcoming environment. The kids will be guided in developing balance, coordination, and a love for dance while fostering their self-expression and confidence. With age-appropriate music and engaging activities, this class is the perfect introduction to the world of ballet, providing a foundation for a lifelong appreciation of the art form and a fun, holistic approach to physical and artistic development.
STATUS:CONFIRMED
SEQUENCE:0
END:VEVENT
END:VCALENDAR