BEGIN:VCALENDAR
VERSION:2.0
CALSCALE:GREGORIAN
BEGIN:VEVENT
SUMMARY:Hot Ashtanga Vinyasa - by Fany Vanderbeken (75min)
DTSTART;TZID=Europe/Brussels:20250622T143000
DTEND;TZID=Europe/Brussels:20250622T154500
LOCATION:HYO
DESCRIPTION: 
STATUS:CONFIRMED
SEQUENCE:0
END:VEVENT
END:VCALENDAR