BEGIN:VCALENDAR
VERSION:2.0
CALSCALE:GREGORIAN
BEGIN:VEVENT
SUMMARY:Happy Partner Yoga - by Diana, Leny &amp; Kelly Elizalde “D- Elizalde sisters “(45min)
DTSTART;TZID=Europe/Brussels:20250622T160000
DTEND;TZID=Europe/Brussels:20250622T164500
LOCATION:HYO
DESCRIPTION: Licht verwarming
STATUS:CONFIRMED
SEQUENCE:0
END:VEVENT
END:VCALENDAR