BEGIN:VCALENDAR
VERSION:2.0
CALSCALE:GREGORIAN
BEGIN:VEVENT
SUMMARY:XL How to Vinyasa 2hr with guest Teacher Nathan Gray
DTSTART;TZID=Europe/Brussels:20250906T100000
DTEND;TZID=Europe/Brussels:20250906T120000
LOCATION:HYO
DESCRIPTION: 
STATUS:CONFIRMED
SEQUENCE:0
END:VEVENT
END:VCALENDAR