BEGIN:VCALENDAR
VERSION:2.0
CALSCALE:GREGORIAN
BEGIN:VEVENT
SUMMARY:Matinée de yoga
DTSTART;TZID=Europe/Paris:20260425T083000
DTEND;TZID=Europe/Paris:20260425T113000
LOCATION:House Of Yoga - Blanquefort
DESCRIPTION: Nous allons profiter d’un temps un peu plus long que nos pratiques habituelles pour embrasser une vision plus profonde et plus globale du yoga.
Pendant ces trois heures d’exploration, nous toucherons les pratiques de concentration, méditation, pranayama, évidemment les asana (postures) et termineront par quelques chants de mantra… et croyez moi, une matinée est courte pour gouter à tout cela, et elles passent toujours trop vite !
STATUS:CONFIRMED
SEQUENCE:0
END:VEVENT
END:VCALENDAR