BEGIN:VCALENDAR
VERSION:2.0
CALSCALE:GREGORIAN
BEGIN:VEVENT
SUMMARY:Kundalini 🌟 🎄 Christmas Special 🎄 🌟
DTSTART;TZID=Europe/Brussels:20251226T093000
DTEND;TZID=Europe/Brussels:20251226T110000
LOCATION:Household Studio
DESCRIPTION: Op kerst vieren we de wedergeboorte van het licht in de meest donkere dagen van het jaar. Het is een moment om naar binnen te gaan. De geboorte van Jezus markeert een nieuw begin, een kans voor spirituele vernieuwing en ons innerlijk licht terug aan te zetten. Het is een moment om naar binnen te gaan; om stil te worden, te luisteren en opnieuw verbinding te maken met het zachte, stralende licht dat altijd in ons aanwezig is.

Tijdens deze kerstspecial creëren we samen een heilige ruimte om het oude los te laten en het nieuwe te verwelkomen. Met verwarmende kriya’s, diepe ademhaling en een helende meditatie openen we ons voor innerlijke vrede en licht. We laten ons dragen door mantra’s die het hart openen en de frequentie van liefde en compassie versterken.

Deze practice is een uitnodiging om te herinneren dat het licht nooit verdwenen is — het wacht alleen om opnieuw gezien te worden.

*De les is altijd open level en toegankelijk voor beginners.
STATUS:CONFIRMED
SEQUENCE:0
END:VEVENT
END:VCALENDAR