BEGIN:VCALENDAR
VERSION:2.0
CALSCALE:GREGORIAN
BEGIN:VEVENT
SUMMARY:Sweet Kundalini Yin
DTSTART;TZID=Europe/Brussels:20251008T104500
DTEND;TZID=Europe/Brussels:20251008T114500
LOCATION:Household Studio
DESCRIPTION: Deze les, speciaal ontworpen voor ontspanning en diepe energetische balans, combineert de kalmerende kracht van de yin energie met de subtiele, opwekkende energie van kundalini. Door langzame, houdingen af te wisselen met zachte ademhalingsoefeningen en meditaties, helpt deze les om spanning los te laten, de energiestromen in je lichaam te harmoniseren en innerlijke rust te vinden. Ideaal voor iedereen die op zoek is naar een rustige manier om energetisch in balans te komen, zonder al te intensieve inspanning.

We werken met de harmoniserende kracht van pranayama, ritmische bewegingen, meditatieve houdingen en een heerlijk herstellende savasana met gong bath.

Come and join the bliss ✨
STATUS:CONFIRMED
SEQUENCE:0
END:VEVENT
END:VCALENDAR