BEGIN:VCALENDAR
VERSION:2.0
CALSCALE:GREGORIAN
BEGIN:VEVENT
SUMMARY:Mind-walk
DTSTART;TZID=Europe/Amsterdam:20211119T104500
DTEND;TZID=Europe/Amsterdam:20211119T114500
LOCATION:Leudal
DESCRIPTION: Een mindfulness en yoga cursus reeks buiten in de natuur! 
10 lessen 10 thema&#039;s.
STATUS:CONFIRMED
SEQUENCE:0
END:VEVENT
END:VCALENDAR