BEGIN:VCALENDAR
VERSION:2.0
CALSCALE:GREGORIAN
BEGIN:VEVENT
SUMMARY:Gentle yoga
DTSTART;TZID=Europe/Amsterdam:20190409T100000
DTEND;TZID=Europe/Amsterdam:20190409T110000
LOCATION:Nunhem
DESCRIPTION: Wegens vervallen les donderdag 11 maart ivm cursus Josie
STATUS:CONFIRMED
SEQUENCE:0
END:VEVENT
END:VCALENDAR