BEGIN:VCALENDAR
VERSION:2.0
CALSCALE:GREGORIAN
BEGIN:VEVENT
SUMMARY:Find Your Flow - yoga &amp; coachings traject
DTSTART;TZID=Europe/Amsterdam:20190402T193000
DTEND;TZID=Europe/Amsterdam:20190402T213000
LOCATION:Roermond
DESCRIPTION: Hoe zou het voor je zijn als je weer volledig in contact bent met je lichaam en ook opnieuw leert luisteren naar je gevoel. Dat je de kracht hebt om de keuzes te maken die goed zijn voor jou, zodat jij jouw eigen weg gaat bewandelen.

Is je antwoord FANTASTISCH!
Dan is dit traject iets voor jou!

Leef volgens je eigen ritme, creëer jouw eigen flow. Jij staat in dit proces centraal, met yoga als basis en geluk als besluit.
STATUS:CONFIRMED
SEQUENCE:0
END:VEVENT
END:VCALENDAR