BEGIN:VCALENDAR
VERSION:2.0
CALSCALE:GREGORIAN
BEGIN:VEVENT
SUMMARY:MIND-WALK XL: Thema ZOMER
DTSTART;TZID=Europe/Amsterdam:20190707T110000
DTEND;TZID=Europe/Amsterdam:20190707T133000
LOCATION:Bezoekerscentrum Leudal
DESCRIPTION: De Mind-walk XL is een workshop waarin wandelen en Mind-fulness centraal staan, welke worden aangevuld met yoga, mediatie en tai-chi. Je zult zowel inspannend als ontspannend te werk gaan en verschillende meditatie technieken aangeleerd krijgen.
Kortom een cadeautje voor jezelf. 

De Mindwalk XL van 7 juli staat volledig in het teken van de Zomer!
STATUS:CONFIRMED
SEQUENCE:0
END:VEVENT
END:VCALENDAR