BEGIN:VCALENDAR
VERSION:2.0
CALSCALE:GREGORIAN
BEGIN:VEVENT
SUMMARY:MIND-WALK XL  thema AARDE
DTSTART;TZID=Europe/Amsterdam:20190901T110000
DTEND;TZID=Europe/Amsterdam:20190901T133000
LOCATION:Nunhem
DESCRIPTION: De Mind-walk XL is een workshop waarin wandelen en Mind-fulness centraal staan, welke worden aangevuld met yoga, mediatie en tai-chi. Je zult zowel inspannend als ontspannend te werk gaan en verschillende meditatie technieken aangeleerd krijgen.

Na de wandeling van ruim 2u sluiten we af met een heerlijk thee momentje inclusief iets lekkers.

Kortom een cadeautje voor jezelf. 

De Mindwalk XL van 1 Sept staat volledig in het teken van de Aarde! Jezelf gronden, stabiliteit en kracht.
STATUS:CONFIRMED
SEQUENCE:0
END:VEVENT
END:VCALENDAR