BEGIN:VCALENDAR
VERSION:2.0
CALSCALE:GREGORIAN
BEGIN:VEVENT
SUMMARY:Easy Yoga Flow
DTSTART;TZID=Europe/Amsterdam:20201207T203000
DTEND;TZID=Europe/Amsterdam:20201207T213000
LOCATION:Trefcentrum Aldenghoor Haelen
DESCRIPTION: Een combinatie les van yin yoga en easy yogaflow. Een ontspannen les waarin we op alle lagen van het lichaam gaan stretchen en ontspannen.
STATUS:CONFIRMED
SEQUENCE:0
END:VEVENT
END:VCALENDAR