BEGIN:VCALENDAR
VERSION:2.0
CALSCALE:GREGORIAN
BEGIN:VEVENT
SUMMARY:YIN YOGA
DTSTART;TZID=Europe/Amsterdam:20210113T190000
DTEND;TZID=Europe/Amsterdam:20210113T200000
LOCATION:Trefcentrum Aldenghoor
DESCRIPTION: 
STATUS:CONFIRMED
SEQUENCE:0
END:VEVENT
END:VCALENDAR