BEGIN:VCALENDAR
VERSION:2.0
CALSCALE:GREGORIAN
BEGIN:VEVENT
SUMMARY:GRATIS LIVE ONLINE YOGA
DTSTART;TZID=Europe/Amsterdam:20201109T200000
DTEND;TZID=Europe/Amsterdam:20201109T204000
LOCATION:Nunhem
DESCRIPTION: Als extraatje trakteer ik jullie komende maandag op een gratis online yogales.
Meld je aan dan ontvang je een half uur voor aanvang de inlog code.

Dit is voor mij ook nieuw daarom een gratis test avond. Als het goed bevalt gaan we dit vaker doen.
STATUS:CONFIRMED
SEQUENCE:0
END:VEVENT
END:VCALENDAR