BEGIN:VCALENDAR
VERSION:2.0
CALSCALE:GREGORIAN
BEGIN:VEVENT
SUMMARY:SUPYOGA - Oolderplas (roermond)
DTSTART;TZID=Europe/Amsterdam:20210514T101500
DTEND;TZID=Europe/Amsterdam:20210514T113000
LOCATION:Oolderplas - Roermond
DESCRIPTION: 
STATUS:CONFIRMED
SEQUENCE:0
END:VEVENT
END:VCALENDAR