BEGIN:VCALENDAR
VERSION:2.0
CALSCALE:GREGORIAN
BEGIN:VEVENT
SUMMARY:Yoga Flow Kollektiv/ Fokus März: Balance
DTSTART;TZID=Europe/Berlin:20260324T193000
DTEND;TZID=Europe/Berlin:20260324T203000
LOCATION:Hund mit Grund
DESCRIPTION: monatliche Entdeckungsreise
Jeden Monat erkunden wir gemeinsam eine neue yogische Dimension. Verschiedene Lehrerinnen bringen ihre einzigartigen Perspektiven ein und schaffen so ein lebendiges Gesamtbild. Wir weben einen roten Faden, der Vielfalt und Einheit verbindet. Jede Stunde bietet einen neuen Blickwinkel, einen Moment der Verbundenheit und lädt dich auf eine Entdeckungsreise ein. Erlebe Yoga als dynamische, sich ständig entfaltende Praxis.
STATUS:CONFIRMED
SEQUENCE:0
END:VEVENT
END:VCALENDAR