BEGIN:VCALENDAR
VERSION:2.0
CALSCALE:GREGORIAN
BEGIN:VEVENT
SUMMARY:Pregnancy Yoga
DTSTART;TZID=Europe/London:20230112T193000
DTEND;TZID=Europe/London:20230112T204500
LOCATION:Hut Yoga
DESCRIPTION: Bringing life into the world has got to be one of the most emotionally charged experience that a woman can have and it starts the minute you see those two lines. It&#039;s mind blowing. So much to consider and decision making right from the get go. 

At the hut Ashley teaches pregnancy yoga every Thursday evening at 7.30pm for those who are 13 weeks onwards, post first scan.

Feeling a little overwhelmed by coming along for the first time? Don&#039;t worry it&#039;s a small intimate group and Ashley is a wonderful teacher who is trained in midwifery, yoga and is also a doula. You are in safe hands.
STATUS:CONFIRMED
SEQUENCE:0
END:VEVENT
END:VCALENDAR