BEGIN:VCALENDAR
VERSION:2.0
CALSCALE:GREGORIAN
BEGIN:VEVENT
SUMMARY:Chair Thai yoga massage with Ria
DTSTART;TZID=Europe/London:20221203T130000
DTEND;TZID=Europe/London:20221203T133000
LOCATION:Hut Yoga
DESCRIPTION: 
STATUS:CONFIRMED
SEQUENCE:0
END:VEVENT
END:VCALENDAR