BEGIN:VCALENDAR
VERSION:2.0
CALSCALE:GREGORIAN
BEGIN:VEVENT
SUMMARY:Various times available for 1:1 yoga, thai yoga massage, reiki &amp; sound therapy. Click here for details.
DTSTART;TZID=Europe/London:20230409T110000
DTEND;TZID=Europe/London:20230409T200000
LOCATION:Hut Yoga
DESCRIPTION: Contact each practitioner directly via call or text message to book referencing Hut Yoga.
Sarah - Oil massage, Angelic Reiki, Sound therapy, Yoga or combination - 07702196688
Ria - Thai Yoga Massage - oil, chair or floor - 07967705314
Gillian - Reiki, sound therapy, chakra clearing or combination - 07908012406
Ashley - 1:1 Pregnancy yoga - 07766125131
STATUS:CONFIRMED
SEQUENCE:0
END:VEVENT
END:VCALENDAR