BEGIN:VCALENDAR
VERSION:2.0
CALSCALE:GREGORIAN
BEGIN:VEVENT
SUMMARY:Relax &amp; Restore online
DTSTART;TZID=Europe/London:20230614T131500
DTEND;TZID=Europe/London:20230614T140000
LOCATION:Hut Yoga
DESCRIPTION: Join us from the comfort of your own home. Grab all the cushions, blankets and support you can find and join us for a mid week reset.
STATUS:CONFIRMED
SEQUENCE:0
END:VEVENT
END:VCALENDAR