BEGIN:VCALENDAR
VERSION:2.0
CALSCALE:GREGORIAN
BEGIN:VEVENT
SUMMARY:Qigong
DTSTART;TZID=Australia/Melbourne:20211005T174500
DTEND;TZID=Australia/Melbourne:20211005T184500
LOCATION:In studio
DESCRIPTION: A modern approach to Qigong, with standing flowing movements which allow you to develop the experience of qi within your body. Some traditional forms are explored.
STATUS:CONFIRMED
SEQUENCE:0
END:VEVENT
END:VCALENDAR