BEGIN:VCALENDAR
VERSION:2.0
CALSCALE:GREGORIAN
BEGIN:VEVENT
SUMMARY:Qigong
DTSTART;TZID=Australia/Melbourne:20211111T101500
DTEND;TZID=Australia/Melbourne:20211111T111500
LOCATION:In studio
DESCRIPTION: 
STATUS:CONFIRMED
SEQUENCE:0
END:VEVENT
END:VCALENDAR