BEGIN:VCALENDAR
VERSION:2.0
CALSCALE:GREGORIAN
BEGIN:VEVENT
SUMMARY:&quot;Soothing the Spirit&quot; Immersion
DTSTART;TZID=Australia/Melbourne:20211003T090000
DTEND;TZID=Australia/Melbourne:20211003T150000
LOCATION:In studio
DESCRIPTION: A beautiful day designed to sooth your spirit with gentle yoga, Qigong labyrinth walks as we connect to the spirit of Spring. Light lunch &amp; morning tea provided. Please feel free to bring your own mat, however mats are available(which will need to be wiped at end of immersion)
STATUS:CONFIRMED
SEQUENCE:0
END:VEVENT
END:VCALENDAR