BEGIN:VCALENDAR
VERSION:2.0
CALSCALE:GREGORIAN
BEGIN:VEVENT
SUMMARY:Inbalance Softly Flow Yoga
DTSTART;TZID=Europe/Berlin:20251103T184500
DTEND;TZID=Europe/Berlin:20251103T194500
LOCATION:inBalance
DESCRIPTION: Erlebe die sanfte Eleganz von inBalance Softly Flow Yoga!
In diesem Kurs laden wir dich ein, in einem langsamen, fließenden Rhythmus zu praktizieren, der Körper und Geist harmonisch miteinander verbindet. Sanfte Asanas und achtsame Atemübungen helfen dir, Verspannungen zu lösen, Stress abzubauen und ein tiefes Gefühl der Entspannung zu erreichen.

Dieser Kurs eignet sich hervorragend für alle, die eine sanfte, aber effektive Yoga-Praxis suchen, um ihre Flexibilität zu verbessern und innere Ruhe zu finden.
STATUS:CONFIRMED
SEQUENCE:0
END:VEVENT
END:VCALENDAR