BEGIN:VCALENDAR
VERSION:2.0
CALSCALE:GREGORIAN
BEGIN:VEVENT
SUMMARY:Core Stretching
DTSTART;TZID=Europe/Berlin:20251030T140000
DTEND;TZID=Europe/Berlin:20251030T143000
LOCATION:inBalance
DESCRIPTION: Core Stretching – Starke Mitte, mehr Beweglichkeit

In diesem Kurs trainierst du gezielt deine Rumpfmuskulatur und verbesserst gleichzeitig deine Flexibilität. Der Mix aus funktionellem Core-Training und effektivem Stretching sorgt für mehr Stabilität, eine bessere Haltung und ein rundum gutes Körpergefühl.

Für alle, die Kraft und Beweglichkeit kombinieren und fit durchstarten wollen.
STATUS:CONFIRMED
SEQUENCE:0
END:VEVENT
END:VCALENDAR