BEGIN:VCALENDAR
VERSION:2.0
CALSCALE:GREGORIAN
BEGIN:VEVENT
SUMMARY:inBalance Hatha Yoga - STARLIGHT SPECIAL
DTSTART;TZID=Europe/Berlin:20251219T183000
DTEND;TZID=Europe/Berlin:20251219T193000
LOCATION:inBalance
DESCRIPTION: STARLIGHT Special - Yoga unterm Sternhimmel.
Wenn die Nächte länger und stiller werden, schenken wir uns einen besonderen Moment der Achtsamkeit. Eine Yogaeinheit unterm Sternenhimmel - für alle Level geeignet. 
Komm zur Ruhe, spür dich selbst und lass dich vom Zauber des Sternenlichts tragen. Eine Einladung, das Jahr achtsam ausklingen zu lassen - mit Bewegung, Stille und ganz viel Herz.
STATUS:CONFIRMED
SEQUENCE:0
END:VEVENT
END:VCALENDAR