BEGIN:VCALENDAR
VERSION:2.0
CALSCALE:GREGORIAN
BEGIN:VEVENT
SUMMARY:PRÄVENTIONSKURS HATHA-YIN YOGA
DTSTART;TZID=Europe/Berlin:20260226T183000
DTEND;TZID=Europe/Berlin:20260226T193000
LOCATION:inBalance
DESCRIPTION: Dieser Kurs ist ideal für alle, die ihre Beweglichkeit verbessern, Stress abbauen und gleichzeitig Kraft und Ausdauer aufbauen möchten.
STATUS:CONFIRMED
SEQUENCE:0
END:VEVENT
END:VCALENDAR