BEGIN:VCALENDAR
VERSION:2.0
CALSCALE:GREGORIAN
BEGIN:VEVENT
SUMMARY:Männer Yoga
DTSTART;TZID=Europe/Berlin:20260127T191500
DTEND;TZID=Europe/Berlin:20260127T201500
LOCATION:inBalance
DESCRIPTION: Männer-Yoga-Kurs: Stärke, Flexibilität und Balance für Männer

Dieser speziell für Männer entwickelte Yoga-Kurs bietet dir die Möglichkeit, Kraft, Beweglichkeit und mentale Stärke zu fördern. Egal, ob du Anfänger bist oder bereits Yoga-Erfahrung hast – hier findest du ein abwechslungsreiches Training, das auf die Bedürfnisse von Männern zugeschnitten ist.

Inhalte des Kurses:

Kräftigung: Aufbau funktionaler Muskelkraft durch dynamische und statische Übungen.
Beweglichkeit: Verbesserung der Flexibilität, um Verspannungen zu lösen und die Bewegungsfreiheit zu erhöhen.
Balance &amp;amp; Koordination: Förderung eines ausgeglichenen Körpergefühls und einer besseren Haltung.
Stressabbau: Entspannungs- und Atemtechniken, die dir helfen, im Alltag gelassener zu bleiben.
Dieser Kurs ist ideal für Männer, die ihren Körper stärken, Verspannungen abbauen und Flexibilität verbessern möchten.
Zielgruppe: Männer jeden Alters und Fitnesslevels
Melde dich jetzt an und entdecke, wie Yoga dein Wohlbefinden nachhaltig steigern kann.
STATUS:CONFIRMED
SEQUENCE:0
END:VEVENT
END:VCALENDAR