BEGIN:VCALENDAR
VERSION:2.0
CALSCALE:GREGORIAN
BEGIN:VEVENT
SUMMARY:KOSTENLOSE SCHNUPPERSTUNDE MODERN DANCE KIDS 8-12 Jahre
DTSTART;TZID=Europe/Berlin:20260208T111500
DTEND;TZID=Europe/Berlin:20260208T121500
LOCATION:inBalance
DESCRIPTION: Kostenlose Schnupperstunde
STATUS:CONFIRMED
SEQUENCE:0
END:VEVENT
END:VCALENDAR