BEGIN:VCALENDAR
VERSION:2.0
CALSCALE:GREGORIAN
BEGIN:VEVENT
SUMMARY:Rücken-Fit
DTSTART;TZID=Europe/Berlin:20260317T164500
DTEND;TZID=Europe/Berlin:20260317T174500
LOCATION:inBalance
DESCRIPTION: Rücken fit ist ein ganzheitlicher Kurs zur Kräftigung und Mobilisation der Rücken- und Rumpfmuskulatur. Durch gezielte Übungen, funktionelles Training und wohltuende Dehnungen werden Haltung, Beweglichkeit und Stabilität verbessert. Der Kurs eignet sich für Anfänger und Fortgeschrittene und unterstützt dabei, Rückenschmerzen vorzubeugen und den Alltag aktiv und beschwerdefrei zu gestalten
STATUS:CONFIRMED
SEQUENCE:0
END:VEVENT
END:VCALENDAR