BEGIN:VCALENDAR
VERSION:2.0
CALSCALE:GREGORIAN
BEGIN:VEVENT
SUMMARY:Aerial Kinderyoga 09-13 Jahre *Fortgeschrittene*
DTSTART;TZID=Europe/Berlin:20260620T111500
DTEND;TZID=Europe/Berlin:20260620T121500
LOCATION:inBalance
DESCRIPTION: In unserem Aerial-Kurs können Kinder von 9 bis 13 Jahren spielerisch Kraft, Balance und Beweglichkeit trainieren. Mit Tüchern, Reifen oder Trapez entdecken wir gemeinsam kreative Bewegungen und akrobatische Tricks – immer sicher und mit viel Spaß!

Perfekt, um neue Herausforderungen zu meistern und die eigene Körperwahrnehmung zu stärken.
STATUS:CONFIRMED
SEQUENCE:0
END:VEVENT
END:VCALENDAR