BEGIN:VCALENDAR
VERSION:2.0
CALSCALE:GREGORIAN
BEGIN:VEVENT
SUMMARY:Kinderballett 5-8 Jahre 🩰NEU
DTSTART;TZID=Europe/Berlin:20260322T150000
DTEND;TZID=Europe/Berlin:20260322T160000
LOCATION:inBalance
DESCRIPTION: Kinderballett ist eine spielerische Einführung in die Tanzform des Balletts, die Freude an Bewegung mit Disziplin verbindet, um Koordination, Haltung, Musikalität und Ausdrucksfähigkeit zu fördern. Kinder lernen grundlegende Schritte, werden an Musik herangeführt und entwickeln räumliche Orientierung und Konzentration. Ziel ist es, die Kinder auf eine altersgerechte und freudvolle Weise an Ballett-Elemente heranzuführen und ihr Selbstbewusstsein sowie ihre soziale Kompetenz zu stärken.
STATUS:CONFIRMED
SEQUENCE:0
END:VEVENT
END:VCALENDAR