BEGIN:VCALENDAR
VERSION:2.0
CALSCALE:GREGORIAN
BEGIN:VEVENT
SUMMARY:Modern Dance Kids 8-12 Jahre ***Neu***
DTSTART;TZID=Europe/Berlin:20260308T161500
DTEND;TZID=Europe/Berlin:20260308T171500
LOCATION:inBalance
DESCRIPTION: Modern Dance für Kinder ist eine kreative, spielerische Tanzform, die oft ab 7 Jahren gelehrt wird und freie Bewegung, Musikalität und Ausdruck verbindet, meist ohne Leistungsdruck. Im Gegensatz zum klassischen Ballett fördert es durch fließende Bewegungen, Bodenarbeit und Improvisation die Körperwahrnehmung, Koordination und Persönlichkeitsentwicklung.
STATUS:CONFIRMED
SEQUENCE:0
END:VEVENT
END:VCALENDAR