BEGIN:VCALENDAR
VERSION:2.0
CALSCALE:GREGORIAN
BEGIN:VEVENT
SUMMARY:Hatha - Vinyasa Yoga
DTSTART;TZID=Europe/Berlin:20260602T174500
DTEND;TZID=Europe/Berlin:20260602T184500
LOCATION:inBalance
DESCRIPTION: Dieser Kurs kombiniert die klassische Praxis des Hatha Yoga mit dynamischen Bewegungsabläufen aus dem Vinyasa Yoga. 

Was erwartet dich?

Hatha Yoga: Fokus auf grundlegende Haltungen (Asanas), die dir Stabilität und Flexibilität schenken.
Vinyasa Yoga: Dynamische Sequenzen, die in einem fließenden Rhythmus geübt werden und die Energie ins Fließen bringen.
Atemübungen und Meditation: Fördern Entspannung und innere Balance.

Der Kurs ist ideal für Teilnehmer die eine Verbindung aus Kraft und Flexibilität suchen.

Ich freue mich auf dich!
STATUS:CONFIRMED
SEQUENCE:0
END:VEVENT
END:VCALENDAR