BEGIN:VCALENDAR
VERSION:2.0
CALSCALE:GREGORIAN
BEGIN:VEVENT
SUMMARY:Yin - Hatha Yoga
DTSTART;TZID=Europe/Berlin:20260730T183000
DTEND;TZID=Europe/Berlin:20260730T193000
LOCATION:inBalance
DESCRIPTION: Tauche ein in die beruhigende Praxis des Hatha Yin Yoga! In diesem Kurs kombinieren wir die grundlegenden Asanas des Hatha Yoga mit den tiefen, entspannenden Haltungen des Yin Yoga. Du wirst sanfte, kraftvolle Posen ausführen, gefolgt von längeren, gehaltenen Yin-Haltungen, die helfen, Verspannungen zu lösen und die Flexibilität zu steigern.

Diese Balance aus Aktivität und Passivität fördert nicht nur die körperliche Gesundheit, sondern auch das geistige Wohlbefinden. Hatha Yin Yoga ist ideal für alle, die einen Ausgleich zwischen Bewegung und Entspannung suchen.
STATUS:CONFIRMED
SEQUENCE:0
END:VEVENT
END:VCALENDAR