BEGIN:VCALENDAR
VERSION:2.0
CALSCALE:GREGORIAN
BEGIN:VEVENT
SUMMARY:**Reformer Pilates **Jump Board **– Fortgeschrittene
DTSTART;TZID=Europe/Berlin:20260503T180000
DTEND;TZID=Europe/Berlin:20260503T185000
LOCATION:inBalance
DESCRIPTION: Dieser dynamische Reformer-Pilates-Kurs mit Jump Board richtet sich ausschließlich an Teilnehmende, die bereits einen Reformer-Kurs bei uns besuchen. Die federunterstützten Sprungbewegungen trainieren Kraft, Ausdauer, Koordination und Rumpfstabilität und ergänzen das klassische Reformer-Training um ein intensives, gelenkschonendes Cardio-Element. Voraussetzung sind sichere Kenntnisse der Pilates-Grundprinzipien und Erfahrung am Reformer. 💪✨
STATUS:CONFIRMED
SEQUENCE:0
END:VEVENT
END:VCALENDAR