BEGIN:VCALENDAR
VERSION:2.0
CALSCALE:GREGORIAN
BEGIN:VEVENT
SUMMARY:Senioren Pilates
DTSTART;TZID=Europe/Berlin:20260326T080500
DTEND;TZID=Europe/Berlin:20260326T090500
LOCATION:inBalance
DESCRIPTION: 
STATUS:CONFIRMED
SEQUENCE:0
END:VEVENT
END:VCALENDAR