BEGIN:VCALENDAR
VERSION:2.0
CALSCALE:GREGORIAN
BEGIN:VEVENT
SUMMARY:Kalea - ONLINE - Ferienkurs
DTSTART;TZID=Europe/Berlin:20250818T180000
DTEND;TZID=Europe/Berlin:20250818T190000
LOCATION:
DESCRIPTION: Heute biete ich dir ein MixPlus-Training mit einem kleinen Konditionsteil!

Mit Kalea hast du eine effektive, gesunde, aber auch entspannte Zeit!

Kalea bietet dir:
* Mobilisation
* Stabilisation
* Kräftigung
* Dehnung
* Entspannung

Alles, was du brauchst, um gesund beweglich zu bleiben oder zu werden.
Geeignet für jedes Alter!
Lege einfach eine Matte aus halte und etwas zu Trinken bereit. Ca. 30min vor Kursbeginn erhältst du eine Mail mit dem Link für die Kursaufzeichnung, welche du eine ganze Woche lang nutzen kannst!
Ich freue mich auf dich!
STATUS:CONFIRMED
SEQUENCE:0
END:VEVENT
END:VCALENDAR