BEGIN:VCALENDAR
VERSION:2.0
CALSCALE:GREGORIAN
BEGIN:VEVENT
SUMMARY:Kaleá - ONLINE - Hüfte
DTSTART;TZID=Europe/Berlin:20251103T090000
DTEND;TZID=Europe/Berlin:20251103T100000
LOCATION:ONLINE
DESCRIPTION: Hier erwartet dich ein super Mix-Training zum Thema Hüfte.
Das Trainingsvideo kannst du 7 Tage lang genießen!
Du brauchst: 
* eine Matte
* etwas zu Trinken (Wasser)
Viel Spaß!
STATUS:CONFIRMED
SEQUENCE:0
END:VEVENT
END:VCALENDAR