BEGIN:VCALENDAR
VERSION:2.0
CALSCALE:GREGORIAN
BEGIN:VEVENT
SUMMARY:CÉRAMIQUE
DTSTART;TZID=Europe/Brussels:20260518T190000
DTEND;TZID=Europe/Brussels:20260518T210000
LOCATION:Place Charles Morimont
DESCRIPTION: Par modelage avec Marie Ghaye céramique
STATUS:CONFIRMED
SEQUENCE:0
END:VEVENT
END:VCALENDAR