BEGIN:VCALENDAR
VERSION:2.0
CALSCALE:GREGORIAN
BEGIN:VEVENT
SUMMARY:Summer Chi Flow  - met Ilse
DTSTART;TZID=Europe/Amsterdam:20250810T093000
DTEND;TZID=Europe/Amsterdam:20250810T103000
LOCATION:Voorburcht 5a
DESCRIPTION: ☀️ In verband met het zomerrooster kun je deze zondag genieten van een Chi Flow les met Ilse!
STATUS:CONFIRMED
SEQUENCE:0
END:VEVENT
END:VCALENDAR