BEGIN:VCALENDAR
VERSION:2.0
CALSCALE:GREGORIAN
BEGIN:VEVENT
SUMMARY:LET OP, nieuwe tijd: Power Hatha ****
DTSTART;TZID=Europe/Amsterdam:20250512T073000
DTEND;TZID=Europe/Amsterdam:20250512T083000
LOCATION:Voorburcht 5A
DESCRIPTION: Start je dag vol energie en focus met onze vroege Power Hatha les!

Deze uitdagende stijl neemt je mee op een ontdekkingsreis door verschillende asana’s, waarbij we niet alleen onze grenzen verkennen, maar ze ook op een moeiteloze manier verleggen.

Deze energieke les richt zich op het vergroten van flexibiliteit en het opbouwen van kracht in het lichaam. 
Door het uitvoeren van de houdingen los je spanningen op en laat je de warme energie weer stromen. 

De les is dynamisch en uitdagend en zet een energieke toon voor je dag. 
Natuurlijk eindigen met een heerlijke ontspanningsritueel. Want die heb je dan zeker verdiend!

Ga de uitdaging aan en ervaar de kracht van power hatha in de vroege ochtend!
STATUS:CONFIRMED
SEQUENCE:0
END:VEVENT
END:VCALENDAR