BEGIN:VCALENDAR
VERSION:2.0
CALSCALE:GREGORIAN
BEGIN:VEVENT
SUMMARY:Barre Flow - try out *** (+ indoor sportschoenen mee!)
DTSTART;TZID=Europe/Amsterdam:20251202T101500
DTEND;TZID=Europe/Amsterdam:20251202T111500
LOCATION:
DESCRIPTION: Start je dinsdag ochtend fit, positief, vrolijk en energiek met Barre in Flow!

Deze heerlijke beweegles op muziek combineert 

*Dans aerobics
*Ballet Workout met de stoel (barre) 
*Krachttraining 
*Breathwork
*Pilates
*Yoga
*Ontspanning

Met deze les verbeter je je kracht, coördinatie, ademhaling, balans, conditie en lenigheid. Daarnaast is deze les ook echt gericht op PLEZIER in bewegen en speelt muziek een belangrijke rol. Mentale ontspanning door fysieke inspanning.

Iedereen is welkom, deze les is te volgen op je eigen niveau; ook in deze les wordt je uitgenodigd om mee te bewegen met jezelf.

Let op: deze les is deels op (binnen) sportschoenen vanwege het eerste gedeelte van van de les (dans aerobics)
STATUS:CONFIRMED
SEQUENCE:0
END:VEVENT
END:VCALENDAR