BEGIN:VCALENDAR
VERSION:2.0
CALSCALE:GREGORIAN
BEGIN:VEVENT
SUMMARY:Winter In Flow: Moderne Hatha**
DTSTART;TZID=Europe/Amsterdam:20251224T101500
DTEND;TZID=Europe/Amsterdam:20251224T111500
LOCATION:Voorburcht 5a, Oss
DESCRIPTION: Deze Moderne Hatha les compleet in Kerstmis stijl, is afgeleid van de traditionele Hatha. Tijdens deze les staat beheersing van het lichaam in combinatie met aandacht voor de adem centraal. De houdingen die zowel zittend, liggend als staand worden uitgevoerd zorgen ervoor dat het lichaam soepeler en sterker wordt. De continue aandacht voor het lichaam en adem hebben een ontspannend effect op zowel lichaam als geest.
STATUS:CONFIRMED
SEQUENCE:0
END:VEVENT
END:VCALENDAR