BEGIN:VCALENDAR
VERSION:2.0
CALSCALE:GREGORIAN
BEGIN:VEVENT
SUMMARY:Oudjaarsdag Moderne Hatha**
DTSTART;TZID=Europe/Amsterdam:20251231T101500
DTEND;TZID=Europe/Amsterdam:20251231T111500
LOCATION:Voorburcht 5a, Oss
DESCRIPTION: De laatste les van 2025! Samen sluiten we met deze heerlijke les het oude jaar af.
STATUS:CONFIRMED
SEQUENCE:0
END:VEVENT
END:VCALENDAR